BEGIN:VCALENDAR
VERSION:2.0
PRODID:-//Mosaic - ECPv6.15.11//NONSGML v1.0//EN
CALSCALE:GREGORIAN
METHOD:PUBLISH
X-WR-CALNAME:Mosaic
X-ORIGINAL-URL:https://hayleyroosphotography.co.uk/mosaic
X-WR-CALDESC:Events for Mosaic
REFRESH-INTERVAL;VALUE=DURATION:PT1H
X-Robots-Tag:noindex
X-PUBLISHED-TTL:PT1H
BEGIN:VTIMEZONE
TZID:Europe/London
BEGIN:DAYLIGHT
TZOFFSETFROM:+0000
TZOFFSETTO:+0100
TZNAME:BST
DTSTART:20250330T010000
END:DAYLIGHT
BEGIN:STANDARD
TZOFFSETFROM:+0100
TZOFFSETTO:+0000
TZNAME:GMT
DTSTART:20251026T010000
END:STANDARD
BEGIN:DAYLIGHT
TZOFFSETFROM:+0000
TZOFFSETTO:+0100
TZNAME:BST
DTSTART:20260329T010000
END:DAYLIGHT
BEGIN:STANDARD
TZOFFSETFROM:+0100
TZOFFSETTO:+0000
TZNAME:GMT
DTSTART:20261025T010000
END:STANDARD
BEGIN:DAYLIGHT
TZOFFSETFROM:+0000
TZOFFSETTO:+0100
TZNAME:BST
DTSTART:20270328T010000
END:DAYLIGHT
BEGIN:STANDARD
TZOFFSETFROM:+0100
TZOFFSETTO:+0000
TZNAME:GMT
DTSTART:20271031T010000
END:STANDARD
END:VTIMEZONE
BEGIN:VEVENT
DTSTART;TZID=Europe/London:20260430T080000
DTEND;TZID=Europe/London:20260430T170000
DTSTAMP:20260420T094943
CREATED:20260416T110228Z
LAST-MODIFIED:20260416T110406Z
UID:45700-1777536000-1777568400@hayleyroosphotography.co.uk
SUMMARY:Test event with ticket opt in
DESCRIPTION:This event will sell tickets\, but the ticket details will include an opt in section
URL:https://hayleyroosphotography.co.uk/mosaic/event/test-event-with-ticket-opt-in/
END:VEVENT
END:VCALENDAR